BEGIN:VCALENDAR
VERSION:2.0
PRODID:-//mWEB//NONSGML mWEB//NB
URL:https://www.auremisjonshus.no/kalender/ics
X-WR-CALNAME:Aure Misjonshus
REFRESH-INTERVAL;VALUE=DURATION:PT6H
X-PUBLISHED-TTL:PT6H    
CALSCALE:GREGORIAN
BEGIN:VEVENT
UID:auremisjonshus.no-268
DTSTAMP:20260425T192535Z
DTSTART:20170502T150000Z
DTEND:20170502T163000Z
URL:https://www.auremisjonshus.no/kalender/2017/05/02/sangsprell/268/
CREATED:20170420T214259Z
LAST-MODIFIED:20170420T214259Z
SUMMARY:Sangsprell
DESCRIPTION:\n\nhttps://www.auremisjonshus.no/kalender/2017/05/02/sangsprell/268/
LOCATION:Aure misjonshus
END:VEVENT

END:VCALENDAR