BEGIN:VCALENDAR
VERSION:2.0
PRODID:-//mWEB//NONSGML mWEB//NB
URL:https://www.auremisjonshus.no/kalender/ics
X-WR-CALNAME:Aure Misjonshus
REFRESH-INTERVAL;VALUE=DURATION:PT6H
X-PUBLISHED-TTL:PT6H    
CALSCALE:GREGORIAN
BEGIN:VEVENT
UID:auremisjonshus.no-260
DTSTAMP:20260425T211633Z
DTSTART:20170429T220000Z
DTEND:20170430T215900Z
URL:https://www.auremisjonshus.no/kalender/2017/04/30/utleige-dapsselskap/260/
CREATED:20170328T113830Z
LAST-MODIFIED:20170328T113830Z
SUMMARY:Utleige: Dåpsselskap
DESCRIPTION:\n\nhttps://www.auremisjonshus.no/kalender/2017/04/30/utleige-dapsselskap/260/
X-MICROSOFT-CDO-ALLDAYEVENT:TRUE
END:VEVENT

END:VCALENDAR