BEGIN:VCALENDAR
VERSION:2.0
PRODID:-//mWEB//NONSGML mWEB//NB
URL:https://www.auremisjonshus.no/kalender/ics
X-WR-CALNAME:Aure Misjonshus
REFRESH-INTERVAL;VALUE=DURATION:PT6H
X-PUBLISHED-TTL:PT6H    
CALSCALE:GREGORIAN
BEGIN:VEVENT
UID:auremisjonshus.no-250
DTSTAMP:20260425T211343Z
DTSTART:20170426T173000Z
DTEND:20170426T190000Z
URL:https://www.auremisjonshus.no/kalender/2017/04/26/mote-samemisjonen/250/
CREATED:20170304T105744Z
LAST-MODIFIED:20170304T105744Z
SUMMARY:Møte Samemisjonen
DESCRIPTION:\n\nhttps://www.auremisjonshus.no/kalender/2017/04/26/mote-samemisjonen/250/
LOCATION:Aure Misjonshus
END:VEVENT

END:VCALENDAR