BEGIN:VCALENDAR
VERSION:2.0
PRODID:-//mWEB//NONSGML mWEB//NB
URL:https://www.auremisjonshus.no/kalender/ics
X-WR-CALNAME:Aure Misjonshus
REFRESH-INTERVAL;VALUE=DURATION:PT6H
X-PUBLISHED-TTL:PT6H    
CALSCALE:GREGORIAN
BEGIN:VEVENT
UID:auremisjonshus.no-263
DTSTAMP:20260425T211506Z
DTSTART:20170421T220000Z
DTEND:20170422T215900Z
URL:https://www.auremisjonshus.no/kalender/2017/04/22/utleige-dapsselskap/263/
CREATED:20170404T082857Z
LAST-MODIFIED:20170406T074954Z
SUMMARY:Utleige: Dåpsselskap
DESCRIPTION:\n\nhttps://www.auremisjonshus.no/kalender/2017/04/22/utleige-dapsselskap/263/
X-MICROSOFT-CDO-ALLDAYEVENT:TRUE
END:VEVENT

END:VCALENDAR