BEGIN:VCALENDAR
VERSION:2.0
PRODID:-//mWEB//NONSGML mWEB//NB
URL:https://www.auremisjonshus.no/kalender/ics
X-WR-CALNAME:Aure Misjonshus
REFRESH-INTERVAL;VALUE=DURATION:PT6H
X-PUBLISHED-TTL:PT6H    
CALSCALE:GREGORIAN
BEGIN:VEVENT
UID:auremisjonshus.no-188
DTSTAMP:20260425T211039Z
DTSTART:20170418T220000Z
DTEND:20170419T215900Z
URL:https://www.auremisjonshus.no/kalender/2017/04/19/oving-aure-misjonskor/188/
CREATED:20170105T140148Z
LAST-MODIFIED:20170304T110712Z
SUMMARY:Øving Aure Misjonskor
DESCRIPTION:\n\nhttps://www.auremisjonshus.no/kalender/2017/04/19/oving-aure-misjonskor/188/
X-MICROSOFT-CDO-ALLDAYEVENT:TRUE
END:VEVENT

END:VCALENDAR