BEGIN:VCALENDAR
VERSION:2.0
PRODID:-//mWEB//NONSGML mWEB//NB
URL:https://www.auremisjonshus.no/kalender/ics
X-WR-CALNAME:Aure Misjonshus
REFRESH-INTERVAL;VALUE=DURATION:PT6H
X-PUBLISHED-TTL:PT6H    
CALSCALE:GREGORIAN
BEGIN:VEVENT
UID:auremisjonshus.no-227
DTSTAMP:20260425T211655Z
DTSTART:20170418T150000Z
DTEND:20170418T163000Z
URL:https://www.auremisjonshus.no/kalender/2017/04/18/sangsprell/227/
CREATED:20170131T160940Z
LAST-MODIFIED:20170304T110701Z
SUMMARY:Sangsprell
DESCRIPTION:\n\nhttps://www.auremisjonshus.no/kalender/2017/04/18/sangsprell/227/
LOCATION:Aure misjonshus
END:VEVENT

END:VCALENDAR