BEGIN:VCALENDAR
VERSION:2.0
PRODID:-//mWEB//NONSGML mWEB//NB
URL:https://www.auremisjonshus.no/kalender/ics
X-WR-CALNAME:Aure Misjonshus
REFRESH-INTERVAL;VALUE=DURATION:PT6H
X-PUBLISHED-TTL:PT6H    
CALSCALE:GREGORIAN
BEGIN:VEVENT
UID:auremisjonshus.no-264
DTSTAMP:20260425T212638Z
DTSTART:20170417T173000Z
DTEND:20170417T190000Z
URL:https://www.auremisjonshus.no/kalender/2017/04/17/mote-skardsgrenda-bedehus/264/
CREATED:20170404T083109Z
LAST-MODIFIED:20170406T074932Z
SUMMARY:Møte Skardsgrenda bedehus
DESCRIPTION:Andakt og Japan-nytt v.Else Marie Ledal. Kollekt. Kaffe. Arr. NLM\n\nhttps://www.auremisjonshus.no/kalender/2017/04/17/mote-skardsgrenda-bedehus/264/
END:VEVENT

END:VCALENDAR