BEGIN:VCALENDAR
VERSION:2.0
PRODID:-//mWEB//NONSGML mWEB//NB
URL:https://www.auremisjonshus.no/kalender/ics
X-WR-CALNAME:Aure Misjonshus
REFRESH-INTERVAL;VALUE=DURATION:PT6H
X-PUBLISHED-TTL:PT6H    
CALSCALE:GREGORIAN
BEGIN:VEVENT
UID:auremisjonshus.no-265
DTSTAMP:20260425T211757Z
DTSTART:20170417T140000Z
DTEND:20170417T153000Z
URL:https://www.auremisjonshus.no/kalender/2017/04/17/mote-lesund-bedehus-tema-lydia-lithell/265/
CREATED:20170404T083222Z
LAST-MODIFIED:20170404T083222Z
SUMMARY:Møte Lesund bedehus - Tema Lydia Lithell
DESCRIPTION:Leif Harberg fortel om songane til Lydia Lithell. Arr. Imf.\n\nhttps://www.auremisjonshus.no/kalender/2017/04/17/mote-lesund-bedehus-tema-lydia-lithell/265/
END:VEVENT

END:VCALENDAR