BEGIN:VCALENDAR
VERSION:2.0
PRODID:-//mWEB//NONSGML mWEB//NB
URL:https://www.auremisjonshus.no/kalender/ics
X-WR-CALNAME:Aure Misjonshus
REFRESH-INTERVAL;VALUE=DURATION:PT6H
X-PUBLISHED-TTL:PT6H    
CALSCALE:GREGORIAN
BEGIN:VEVENT
UID:auremisjonshus.no-258
DTSTAMP:20260425T212038Z
DTSTART:20170409T090000Z
DTEND:20170409T103000Z
URL:https://www.auremisjonshus.no/kalender/2017/04/09/paskemote-indremisjonsforbundet/258/
CREATED:20170321T204723Z
LAST-MODIFIED:20170321T204815Z
SUMMARY:Påskemøte Indremisjonsforbundet
DESCRIPTION:Krinssekretær Arild Ove Halås deltar. Sang av Aure Misjonshus\n\n \n\nMøte kl. 11\n\n \n\nSal av middag\n\n \n\nFamiliemøte kl. 14\n\nhttps://www.auremisjonshus.no/kalender/2017/04/09/paskemote-indremisjonsforbundet/258/
END:VEVENT

END:VCALENDAR