BEGIN:VCALENDAR
VERSION:2.0
PRODID:-//mWEB//NONSGML mWEB//NB
URL:https://www.auremisjonshus.no/kalender/ics
X-WR-CALNAME:Aure Misjonshus
REFRESH-INTERVAL;VALUE=DURATION:PT6H
X-PUBLISHED-TTL:PT6H    
CALSCALE:GREGORIAN
BEGIN:VEVENT
UID:auremisjonshus.no-259
DTSTAMP:20260425T214232Z
DTSTART:20170409T120000Z
DTEND:20170409T133000Z
URL:https://www.auremisjonshus.no/kalender/2017/04/09/paskemote-familiemote-indremisjonsforbundet/259/
CREATED:20170321T204916Z
LAST-MODIFIED:20170321T204916Z
SUMMARY:Påskemøte - familiemøte Indremisjonsforbundet
DESCRIPTION:Krinssekretær Arild Ove Halås deltar. Sang av Aure Misjonshus\n\n \n\nMøte kl. 11\n\n \n\nSal av middag\n\n \n\nFamiliemøte kl. 14\n\nhttps://www.auremisjonshus.no/kalender/2017/04/09/paskemote-familiemote-indremisjonsforbundet/259/
END:VEVENT

END:VCALENDAR