BEGIN:VCALENDAR
VERSION:2.0
PRODID:-//mWEB//NONSGML mWEB//NB
URL:https://www.auremisjonshus.no/kalender/ics
X-WR-CALNAME:Aure Misjonshus
REFRESH-INTERVAL;VALUE=DURATION:PT6H
X-PUBLISHED-TTL:PT6H    
CALSCALE:GREGORIAN
BEGIN:VEVENT
UID:auremisjonshus.no-226
DTSTAMP:20260425T211507Z
DTSTART:20170403T150000Z
DTEND:20170403T163000Z
URL:https://www.auremisjonshus.no/kalender/2017/04/03/sangsprell/226/
CREATED:20170131T160923Z
LAST-MODIFIED:20170304T110550Z
SUMMARY:Sangsprell
DESCRIPTION:\n\nhttps://www.auremisjonshus.no/kalender/2017/04/03/sangsprell/226/
LOCATION:Aure misjonshus
END:VEVENT

END:VCALENDAR