BEGIN:VCALENDAR
VERSION:2.0
PRODID:-//mWEB//NONSGML mWEB//NB
URL:https://www.auremisjonshus.no/kalender/ics
X-WR-CALNAME:Aure Misjonshus
REFRESH-INTERVAL;VALUE=DURATION:PT6H
X-PUBLISHED-TTL:PT6H    
CALSCALE:GREGORIAN
BEGIN:VEVENT
UID:auremisjonshus.no-233
DTSTAMP:20260425T211041Z
DTSTART:20170403T090000Z
DTEND:20170403T103000Z
URL:https://www.auremisjonshus.no/kalender/2017/04/03/babysang/233/
CREATED:20170131T161123Z
LAST-MODIFIED:20170304T110538Z
SUMMARY:Babysang
DESCRIPTION:\n\nhttps://www.auremisjonshus.no/kalender/2017/04/03/babysang/233/
LOCATION:Aure misjonshus
END:VEVENT

END:VCALENDAR