BEGIN:VCALENDAR
VERSION:2.0
PRODID:-//mWEB//NONSGML mWEB//NB
URL:https://www.auremisjonshus.no/kalender/ics
X-WR-CALNAME:Aure Misjonshus
REFRESH-INTERVAL;VALUE=DURATION:PT6H
X-PUBLISHED-TTL:PT6H    
CALSCALE:GREGORIAN
BEGIN:VEVENT
UID:auremisjonshus.no-207
DTSTAMP:20260425T211342Z
DTSTART:20170401T220000Z
DTEND:20170402T215900Z
URL:https://www.auremisjonshus.no/kalender/2017/04/02/arsmote-aure-fellesforeining-nlm/207/
CREATED:20170109T185737Z
LAST-MODIFIED:20170304T110526Z
SUMMARY:Årsmøte Aure fellesforeining NLM
DESCRIPTION:\n\nhttps://www.auremisjonshus.no/kalender/2017/04/02/arsmote-aure-fellesforeining-nlm/207/
X-MICROSOFT-CDO-ALLDAYEVENT:TRUE
END:VEVENT

END:VCALENDAR