BEGIN:VCALENDAR
VERSION:2.0
PRODID:-//mWEB//NONSGML mWEB//NB
URL:https://www.auremisjonshus.no/kalender/ics
X-WR-CALNAME:Aure Misjonshus
REFRESH-INTERVAL;VALUE=DURATION:PT6H
X-PUBLISHED-TTL:PT6H    
CALSCALE:GREGORIAN
BEGIN:VEVENT
UID:auremisjonshus.no-187
DTSTAMP:20260425T232007Z
DTSTART:20170328T220000Z
DTEND:20170329T215900Z
URL:https://www.auremisjonshus.no/kalender/2017/03/29/oving-aure-misjonskor/187/
CREATED:20170105T140139Z
LAST-MODIFIED:20170304T110502Z
SUMMARY:Øving Aure Misjonskor
DESCRIPTION:\n\nhttps://www.auremisjonshus.no/kalender/2017/03/29/oving-aure-misjonskor/187/
X-MICROSOFT-CDO-ALLDAYEVENT:TRUE
END:VEVENT

END:VCALENDAR