BEGIN:VCALENDAR
VERSION:2.0
PRODID:-//mWEB//NONSGML mWEB//NB
URL:https://www.auremisjonshus.no/kalender/ics
X-WR-CALNAME:Aure Misjonshus
REFRESH-INTERVAL;VALUE=DURATION:PT6H
X-PUBLISHED-TTL:PT6H    
CALSCALE:GREGORIAN
BEGIN:VEVENT
UID:auremisjonshus.no-205
DTSTAMP:20260425T232521Z
DTSTART:20170328T170000Z
DTEND:20170328T183000Z
URL:https://www.auremisjonshus.no/kalender/2017/03/28/roddemote/205/
CREATED:20170109T185622Z
LAST-MODIFIED:20170304T110450Z
SUMMARY:Røddemøte
DESCRIPTION:\n\nhttps://www.auremisjonshus.no/kalender/2017/03/28/roddemote/205/
END:VEVENT

END:VCALENDAR