BEGIN:VCALENDAR
VERSION:2.0
PRODID:-//mWEB//NONSGML mWEB//NB
URL:https://www.auremisjonshus.no/kalender/ics
X-WR-CALNAME:Aure Misjonshus
REFRESH-INTERVAL;VALUE=DURATION:PT6H
X-PUBLISHED-TTL:PT6H    
CALSCALE:GREGORIAN
BEGIN:VEVENT
UID:auremisjonshus.no-219
DTSTAMP:20260425T232153Z
DTSTART:20170326T140000Z
DTEND:20170326T153000Z
URL:https://www.auremisjonshus.no/kalender/2017/03/26/sondagsmote-indremisjonsforbundet/219/
CREATED:20170122T113401Z
LAST-MODIFIED:20170304T110438Z
SUMMARY:Søndagsmøte Indremisjonsforbundet
DESCRIPTION:\n\nhttps://www.auremisjonshus.no/kalender/2017/03/26/sondagsmote-indremisjonsforbundet/219/
END:VEVENT

END:VCALENDAR