BEGIN:VCALENDAR
VERSION:2.0
PRODID:-//mWEB//NONSGML mWEB//NB
URL:https://www.auremisjonshus.no/kalender/ics
X-WR-CALNAME:Aure Misjonshus
REFRESH-INTERVAL;VALUE=DURATION:PT6H
X-PUBLISHED-TTL:PT6H    
CALSCALE:GREGORIAN
BEGIN:VEVENT
UID:auremisjonshus.no-201
DTSTAMP:20260425T231215Z
DTSTART:20170321T133000Z
DTEND:20170321T155000Z
URL:https://www.auremisjonshus.no/kalender/2017/03/21/konfirmantundervisning/201/
CREATED:20170109T185402Z
LAST-MODIFIED:20170304T110426Z
SUMMARY:Konfirmantundervisning
DESCRIPTION:\n\nhttps://www.auremisjonshus.no/kalender/2017/03/21/konfirmantundervisning/201/
END:VEVENT

END:VCALENDAR