BEGIN:VCALENDAR
VERSION:2.0
PRODID:-//mWEB//NONSGML mWEB//NB
URL:https://www.auremisjonshus.no/kalender/ics
X-WR-CALNAME:Aure Misjonshus
REFRESH-INTERVAL;VALUE=DURATION:PT6H
X-PUBLISHED-TTL:PT6H    
CALSCALE:GREGORIAN
BEGIN:VEVENT
UID:auremisjonshus.no-225
DTSTAMP:20260425T231556Z
DTSTART:20170320T160000Z
DTEND:20170320T173000Z
URL:https://www.auremisjonshus.no/kalender/2017/03/20/sangsprell/225/
CREATED:20170131T160913Z
LAST-MODIFIED:20170304T110414Z
SUMMARY:Sangsprell
DESCRIPTION:\n\nhttps://www.auremisjonshus.no/kalender/2017/03/20/sangsprell/225/
LOCATION:Aure misjonshus
END:VEVENT

END:VCALENDAR