BEGIN:VCALENDAR
VERSION:2.0
PRODID:-//mWEB//NONSGML mWEB//NB
URL:https://www.auremisjonshus.no/kalender/ics
X-WR-CALNAME:Aure Misjonshus
REFRESH-INTERVAL;VALUE=DURATION:PT6H
X-PUBLISHED-TTL:PT6H    
CALSCALE:GREGORIAN
BEGIN:VEVENT
UID:auremisjonshus.no-212
DTSTAMP:20260425T232721Z
DTSTART:20170316T230000Z
DTEND:20170317T225900Z
URL:https://www.auremisjonshus.no/kalender/2017/03/17/estlandskveld/212/
CREATED:20170115T210808Z
LAST-MODIFIED:20170304T110341Z
SUMMARY:Estlandskveld
DESCRIPTION:\n\nhttps://www.auremisjonshus.no/kalender/2017/03/17/estlandskveld/212/
X-MICROSOFT-CDO-ALLDAYEVENT:TRUE
END:VEVENT

END:VCALENDAR