BEGIN:VCALENDAR
VERSION:2.0
PRODID:-//mWEB//NONSGML mWEB//NB
URL:https://www.auremisjonshus.no/kalender/ics
X-WR-CALNAME:Aure Misjonshus
REFRESH-INTERVAL;VALUE=DURATION:PT6H
X-PUBLISHED-TTL:PT6H    
CALSCALE:GREGORIAN
BEGIN:VEVENT
UID:auremisjonshus.no-193
DTSTAMP:20260425T232818Z
DTSTART:20170309T150000Z
DTEND:20170309T163000Z
URL:https://www.auremisjonshus.no/kalender/2017/03/09/eldres-hyggestund/193/
CREATED:20170105T140305Z
LAST-MODIFIED:20170304T110322Z
SUMMARY:Eldres hyggestund
DESCRIPTION:\n\nhttps://www.auremisjonshus.no/kalender/2017/03/09/eldres-hyggestund/193/
END:VEVENT

END:VCALENDAR