BEGIN:VCALENDAR
VERSION:2.0
PRODID:-//mWEB//NONSGML mWEB//NB
URL:https://www.auremisjonshus.no/kalender/ics
X-WR-CALNAME:Aure Misjonshus
REFRESH-INTERVAL;VALUE=DURATION:PT6H
X-PUBLISHED-TTL:PT6H    
CALSCALE:GREGORIAN
BEGIN:VEVENT
UID:auremisjonshus.no-209
DTSTAMP:20260425T232008Z
DTSTART:20170307T230000Z
DTEND:20170308T225900Z
URL:https://www.auremisjonshus.no/kalender/2017/03/08/oving-aure-misjonskor/209/
CREATED:20170109T185954Z
LAST-MODIFIED:20170304T110312Z
SUMMARY:Øving Aure Misjonskor
DESCRIPTION:\n\nhttps://www.auremisjonshus.no/kalender/2017/03/08/oving-aure-misjonskor/209/
X-MICROSOFT-CDO-ALLDAYEVENT:TRUE
END:VEVENT

END:VCALENDAR