BEGIN:VCALENDAR
VERSION:2.0
PRODID:-//mWEB//NONSGML mWEB//NB
URL:https://www.auremisjonshus.no/kalender/ics
X-WR-CALNAME:Aure Misjonshus
REFRESH-INTERVAL;VALUE=DURATION:PT6H
X-PUBLISHED-TTL:PT6H    
CALSCALE:GREGORIAN
BEGIN:VEVENT
UID:auremisjonshus.no-330
DTSTAMP:20260425T232506Z
DTSTART:20170307T230000Z
DTEND:20170308T225900Z
URL:https://www.auremisjonshus.no/kalender/2017/03/08/eldres-hyggestund/330/
CREATED:20171114T104412Z
LAST-MODIFIED:20171114T104412Z
SUMMARY:Eldres hyggestund
DESCRIPTION:\n\nhttps://www.auremisjonshus.no/kalender/2017/03/08/eldres-hyggestund/330/
X-MICROSOFT-CDO-ALLDAYEVENT:TRUE
END:VEVENT

END:VCALENDAR