BEGIN:VCALENDAR
VERSION:2.0
PRODID:-//mWEB//NONSGML mWEB//NB
URL:https://www.auremisjonshus.no/kalender/ics
X-WR-CALNAME:Aure Misjonshus
REFRESH-INTERVAL;VALUE=DURATION:PT6H
X-PUBLISHED-TTL:PT6H    
CALSCALE:GREGORIAN
BEGIN:VEVENT
UID:auremisjonshus.no-231
DTSTAMP:20260425T231807Z
DTSTART:20170306T100000Z
DTEND:20170306T113000Z
URL:https://www.auremisjonshus.no/kalender/2017/03/06/babysang/231/
CREATED:20170131T161047Z
LAST-MODIFIED:20170304T110253Z
SUMMARY:Babysang
DESCRIPTION:\n\nhttps://www.auremisjonshus.no/kalender/2017/03/06/babysang/231/
LOCATION:Aure misjonshus
END:VEVENT

END:VCALENDAR