BEGIN:VCALENDAR
VERSION:2.0
PRODID:-//mWEB//NONSGML mWEB//NB
URL:https://www.auremisjonshus.no/kalender/ics
X-WR-CALNAME:Aure Misjonshus
REFRESH-INTERVAL;VALUE=DURATION:PT6H
X-PUBLISHED-TTL:PT6H    
CALSCALE:GREGORIAN
BEGIN:VEVENT
UID:auremisjonshus.no-249
DTSTAMP:20260425T232342Z
DTSTART:20170304T180000Z
DTEND:20170304T193000Z
URL:https://www.auremisjonshus.no/kalender/2017/03/04/sangkveld-vihals-grendehus/249/
CREATED:20170226T190804Z
LAST-MODIFIED:20170226T190804Z
SUMMARY:Sangkveld - Vihals grendehus
DESCRIPTION:Med Hilde og Morten Øsyetese\, Nora og Kristoffer Kjørsvik\, brødrene Gjerde og Arti Lell.\n\nhttps://www.auremisjonshus.no/kalender/2017/03/04/sangkveld-vihals-grendehus/249/
END:VEVENT

END:VCALENDAR