BEGIN:VCALENDAR
VERSION:2.0
PRODID:-//mWEB//NONSGML mWEB//NB
URL:https://www.auremisjonshus.no/kalender/ics
X-WR-CALNAME:Aure Misjonshus
REFRESH-INTERVAL;VALUE=DURATION:PT6H
X-PUBLISHED-TTL:PT6H    
CALSCALE:GREGORIAN
BEGIN:VEVENT
UID:auremisjonshus.no-246
DTSTAMP:20260425T232027Z
DTSTART:20170301T183000Z
DTEND:20170301T200000Z
URL:https://www.auremisjonshus.no/kalender/2017/03/01/moteveke-nlm-aure-misjonshus/246/
CREATED:20170226T190607Z
LAST-MODIFIED:20170226T190607Z
SUMMARY:Møteveke NLM - Aure Misjonshus
DESCRIPTION:Møteveke med Morten og Hilde Øystese.\n\nhttps://www.auremisjonshus.no/kalender/2017/03/01/moteveke-nlm-aure-misjonshus/246/
LOCATION:Aure Misjonshus
END:VEVENT

END:VCALENDAR