BEGIN:VCALENDAR
VERSION:2.0
PRODID:-//mWEB//NONSGML mWEB//NB
URL:https://www.auremisjonshus.no/kalender/ics
X-WR-CALNAME:Aure Misjonshus
REFRESH-INTERVAL;VALUE=DURATION:PT6H
X-PUBLISHED-TTL:PT6H    
CALSCALE:GREGORIAN
BEGIN:VEVENT
UID:auremisjonshus.no-206
DTSTAMP:20260426T010414Z
DTSTART:20170228T183000Z
DTEND:20170228T200000Z
URL:https://www.auremisjonshus.no/kalender/2017/02/28/moteveke-nlm-aure-misjonshus/206/
CREATED:20170109T185653Z
LAST-MODIFIED:20170226T190551Z
SUMMARY:Møteveke NLM - Aure Misjonshus
DESCRIPTION:Møteveke med Morten og Hilde Øystese.\n\nhttps://www.auremisjonshus.no/kalender/2017/02/28/moteveke-nlm-aure-misjonshus/206/
LOCATION:Aure Misjonshus
END:VEVENT

END:VCALENDAR