BEGIN:VCALENDAR
VERSION:2.0
PRODID:-//mWEB//NONSGML mWEB//NB
URL:https://www.auremisjonshus.no/kalender/ics
X-WR-CALNAME:Aure Misjonshus
REFRESH-INTERVAL;VALUE=DURATION:PT6H
X-PUBLISHED-TTL:PT6H    
CALSCALE:GREGORIAN
BEGIN:VEVENT
UID:auremisjonshus.no-199
DTSTAMP:20260426T011507Z
DTSTART:20170228T133000Z
DTEND:20170228T155000Z
URL:https://www.auremisjonshus.no/kalender/2017/02/28/konfirmantundervisning-aure-misjonshus/199/
CREATED:20170109T185331Z
LAST-MODIFIED:20170222T214738Z
SUMMARY:Konfirmantundervisning - Aure Misjonshus
DESCRIPTION:\n\nhttps://www.auremisjonshus.no/kalender/2017/02/28/konfirmantundervisning-aure-misjonshus/199/
END:VEVENT

END:VCALENDAR