BEGIN:VCALENDAR
VERSION:2.0
PRODID:-//mWEB//NONSGML mWEB//NB
URL:https://www.auremisjonshus.no/kalender/ics
X-WR-CALNAME:Aure Misjonshus
REFRESH-INTERVAL;VALUE=DURATION:PT6H
X-PUBLISHED-TTL:PT6H    
CALSCALE:GREGORIAN
BEGIN:VEVENT
UID:auremisjonshus.no-223
DTSTAMP:20260426T011306Z
DTSTART:20170220T160000Z
DTEND:20170220T173000Z
URL:https://www.auremisjonshus.no/kalender/2017/02/20/sangsprell/223/
CREATED:20170131T160243Z
LAST-MODIFIED:20170131T160853Z
SUMMARY:Sangsprell
DESCRIPTION:\n\nhttps://www.auremisjonshus.no/kalender/2017/02/20/sangsprell/223/
LOCATION:Aure misjonshus
END:VEVENT

END:VCALENDAR