BEGIN:VCALENDAR
VERSION:2.0
PRODID:-//mWEB//NONSGML mWEB//NB
URL:https://www.auremisjonshus.no/kalender/ics
X-WR-CALNAME:Aure Misjonshus
REFRESH-INTERVAL;VALUE=DURATION:PT6H
X-PUBLISHED-TTL:PT6H    
CALSCALE:GREGORIAN
BEGIN:VEVENT
UID:auremisjonshus.no-230
DTSTAMP:20260426T012059Z
DTSTART:20170220T100000Z
DTEND:20170220T113000Z
URL:https://www.auremisjonshus.no/kalender/2017/02/20/babysang/230/
CREATED:20170131T161037Z
LAST-MODIFIED:20170131T161037Z
SUMMARY:Babysang
DESCRIPTION:\n\nhttps://www.auremisjonshus.no/kalender/2017/02/20/babysang/230/
LOCATION:Aure misjonshus
END:VEVENT

END:VCALENDAR