BEGIN:VCALENDAR
VERSION:2.0
PRODID:-//mWEB//NONSGML mWEB//NB
URL:https://www.auremisjonshus.no/kalender/ics
X-WR-CALNAME:Aure Misjonshus
REFRESH-INTERVAL;VALUE=DURATION:PT6H
X-PUBLISHED-TTL:PT6H    
CALSCALE:GREGORIAN
BEGIN:VEVENT
UID:auremisjonshus.no-214
DTSTAMP:20260426T010349Z
DTSTART:20170216T170000Z
DTEND:20170216T183000Z
URL:https://www.auremisjonshus.no/kalender/2017/02/16/arsmote-aure-misjonshuslag/214/
CREATED:20170122T112829Z
LAST-MODIFIED:20170122T113124Z
SUMMARY:Årsmøte Aure misjonshuslag
DESCRIPTION:\n\nhttps://www.auremisjonshus.no/kalender/2017/02/16/arsmote-aure-misjonshuslag/214/
END:VEVENT

END:VCALENDAR