BEGIN:VCALENDAR
VERSION:2.0
PRODID:-//mWEB//NONSGML mWEB//NB
URL:https://www.auremisjonshus.no/kalender/ics
X-WR-CALNAME:Aure Misjonshus
REFRESH-INTERVAL;VALUE=DURATION:PT6H
X-PUBLISHED-TTL:PT6H    
CALSCALE:GREGORIAN
BEGIN:VEVENT
UID:auremisjonshus.no-238
DTSTAMP:20260426T010010Z
DTSTART:20170212T180000Z
DTEND:20170212T193000Z
URL:https://www.auremisjonshus.no/kalender/2017/02/12/mote-ombord-ms-elieser-kaia-i-leirdalen/238/
CREATED:20170131T161628Z
LAST-MODIFIED:20170131T161839Z
SUMMARY:Møte ombord M/S Elieser -kaia i Leirdalen
DESCRIPTION:\n\nhttps://www.auremisjonshus.no/kalender/2017/02/12/mote-ombord-ms-elieser-kaia-i-leirdalen/238/
LOCATION:Kaia i Leirdalen
END:VEVENT

END:VCALENDAR