BEGIN:VCALENDAR
VERSION:2.0
PRODID:-//mWEB//NONSGML mWEB//NB
URL:https://www.auremisjonshus.no/kalender/ics
X-WR-CALNAME:Aure Misjonshus
REFRESH-INTERVAL;VALUE=DURATION:PT6H
X-PUBLISHED-TTL:PT6H    
CALSCALE:GREGORIAN
BEGIN:VEVENT
UID:auremisjonshus.no-192
DTSTAMP:20260426T005847Z
DTSTART:20170209T150000Z
DTEND:20170209T163000Z
URL:https://www.auremisjonshus.no/kalender/2017/02/09/eldres-hyggestund/192/
CREATED:20170105T140256Z
LAST-MODIFIED:20170208T155532Z
SUMMARY:Eldres hyggestund
DESCRIPTION:\n\nhttps://www.auremisjonshus.no/kalender/2017/02/09/eldres-hyggestund/192/
END:VEVENT

END:VCALENDAR