BEGIN:VCALENDAR
VERSION:2.0
PRODID:-//mWEB//NONSGML mWEB//NB
URL:https://www.auremisjonshus.no/kalender/ics
X-WR-CALNAME:Aure Misjonshus
REFRESH-INTERVAL;VALUE=DURATION:PT6H
X-PUBLISHED-TTL:PT6H    
CALSCALE:GREGORIAN
BEGIN:VEVENT
UID:auremisjonshus.no-198
DTSTAMP:20260426T011935Z
DTSTART:20170207T133000Z
DTEND:20170207T155000Z
URL:https://www.auremisjonshus.no/kalender/2017/02/07/konfirmantundervisning/198/
CREATED:20170109T185319Z
LAST-MODIFIED:20170109T185319Z
SUMMARY:Konfirmantundervisning
DESCRIPTION:\n\nhttps://www.auremisjonshus.no/kalender/2017/02/07/konfirmantundervisning/198/
END:VEVENT

END:VCALENDAR