BEGIN:VCALENDAR
VERSION:2.0
PRODID:-//mWEB//NONSGML mWEB//NB
URL:https://www.auremisjonshus.no/kalender/ics
X-WR-CALNAME:Aure Misjonshus
REFRESH-INTERVAL;VALUE=DURATION:PT6H
X-PUBLISHED-TTL:PT6H    
CALSCALE:GREGORIAN
BEGIN:VEVENT
UID:auremisjonshus.no-211
DTSTAMP:20260426T010415Z
DTSTART:20170203T230000Z
DTEND:20170204T225900Z
URL:https://www.auremisjonshus.no/kalender/2017/02/04/katolsk-messe/211/
CREATED:20170115T210646Z
LAST-MODIFIED:20170115T210646Z
SUMMARY:Katolsk messe
DESCRIPTION:\n\nhttps://www.auremisjonshus.no/kalender/2017/02/04/katolsk-messe/211/
X-MICROSOFT-CDO-ALLDAYEVENT:TRUE
END:VEVENT

END:VCALENDAR