BEGIN:VCALENDAR
VERSION:2.0
PRODID:-//mWEB//NONSGML mWEB//NB
URL:https://www.auremisjonshus.no/kalender/ics
X-WR-CALNAME:Aure Misjonshus
REFRESH-INTERVAL;VALUE=DURATION:PT6H
X-PUBLISHED-TTL:PT6H    
CALSCALE:GREGORIAN
BEGIN:VEVENT
UID:auremisjonshus.no-204
DTSTAMP:20260426T030915Z
DTSTART:20170129T150000Z
DTEND:20170129T163000Z
URL:https://www.auremisjonshus.no/kalender/2017/01/29/sondagsmote-nlm-sovassli-mote/204/
CREATED:20170109T185543Z
LAST-MODIFIED:20170109T185543Z
SUMMARY:Søndagsmøte NLM Søvassli-møte
DESCRIPTION:\n\nhttps://www.auremisjonshus.no/kalender/2017/01/29/sondagsmote-nlm-sovassli-mote/204/
END:VEVENT

END:VCALENDAR