BEGIN:VCALENDAR
VERSION:2.0
PRODID:-//mWEB//NONSGML mWEB//NB
URL:https://www.auremisjonshus.no/kalender/ics
X-WR-CALNAME:Aure Misjonshus
REFRESH-INTERVAL;VALUE=DURATION:PT6H
X-PUBLISHED-TTL:PT6H    
CALSCALE:GREGORIAN
BEGIN:VEVENT
UID:auremisjonshus.no-213
DTSTAMP:20260426T031055Z
DTSTART:20170119T230000Z
DTEND:20170121T225900Z
URL:https://www.auremisjonshus.no/kalender/2017/01/20/dapsfest/213/
CREATED:20170115T210836Z
LAST-MODIFIED:20170115T210836Z
SUMMARY:Dåpsfest
DESCRIPTION:\n\nhttps://www.auremisjonshus.no/kalender/2017/01/20/dapsfest/213/
X-MICROSOFT-CDO-ALLDAYEVENT:TRUE
END:VEVENT

END:VCALENDAR