BEGIN:VCALENDAR
VERSION:2.0
PRODID:-//mWEB//NONSGML mWEB//NB
URL:https://www.auremisjonshus.no/kalender/ics
X-WR-CALNAME:Aure Misjonshus
REFRESH-INTERVAL;VALUE=DURATION:PT6H
X-PUBLISHED-TTL:PT6H    
CALSCALE:GREGORIAN
BEGIN:VEVENT
UID:auremisjonshus.no-182
DTSTAMP:20260426T030615Z
DTSTART:20170117T133000Z
DTEND:20170117T155000Z
URL:https://www.auremisjonshus.no/kalender/2017/01/17/konfirmantundervisning/182/
CREATED:20161218T190147Z
LAST-MODIFIED:20170109T185256Z
SUMMARY:Konfirmantundervisning
DESCRIPTION:\n\nhttps://www.auremisjonshus.no/kalender/2017/01/17/konfirmantundervisning/182/
END:VEVENT

END:VCALENDAR