BEGIN:VCALENDAR
VERSION:2.0
PRODID:-//mWEB//NONSGML mWEB//NB
URL:https://www.auremisjonshus.no/kalender/ics
X-WR-CALNAME:Aure Misjonshus
REFRESH-INTERVAL;VALUE=DURATION:PT6H
X-PUBLISHED-TTL:PT6H    
CALSCALE:GREGORIAN
BEGIN:VEVENT
UID:auremisjonshus.no-210
DTSTAMP:20260426T031438Z
DTSTART:20170115T150000Z
DTEND:20170115T163000Z
URL:https://www.auremisjonshus.no/kalender/2017/01/15/moter-med-harald-tjervag-imf/210/
CREATED:20170109T194541Z
LAST-MODIFIED:20170109T194645Z
SUMMARY:Møter med Harald Tjervåg - Imf
DESCRIPTION:\n\nhttps://www.auremisjonshus.no/kalender/2017/01/15/moter-med-harald-tjervag-imf/210/
END:VEVENT

END:VCALENDAR