BEGIN:VCALENDAR
VERSION:2.0
PRODID:-//mWEB//NONSGML mWEB//NB
URL:https://www.auremisjonshus.no/kalender/ics
X-WR-CALNAME:Aure Misjonshus
REFRESH-INTERVAL;VALUE=DURATION:PT6H
X-PUBLISHED-TTL:PT6H    
CALSCALE:GREGORIAN
BEGIN:VEVENT
UID:auremisjonshus.no-183
DTSTAMP:20260426T031610Z
DTSTART:20170114T150000Z
DTEND:20170114T163000Z
URL:https://www.auremisjonshus.no/kalender/2017/01/14/moter-med-harald-tjervag-imf/183/
CREATED:20161229T184702Z
LAST-MODIFIED:20170109T194617Z
SUMMARY:Møter med Harald Tjervåg - Imf
DESCRIPTION:\n\nhttps://www.auremisjonshus.no/kalender/2017/01/14/moter-med-harald-tjervag-imf/183/
END:VEVENT

END:VCALENDAR