BEGIN:VCALENDAR
VERSION:2.0
PRODID:-//mWEB//NONSGML mWEB//NB
URL:https://www.auremisjonshus.no/kalender/ics
X-WR-CALNAME:Aure Misjonshus
REFRESH-INTERVAL;VALUE=DURATION:PT6H
X-PUBLISHED-TTL:PT6H    
CALSCALE:GREGORIAN
BEGIN:VEVENT
UID:auremisjonshus.no-191
DTSTAMP:20260426T030701Z
DTSTART:20170112T150000Z
DTEND:20170112T163000Z
URL:https://www.auremisjonshus.no/kalender/2017/01/12/eldres-hyggestund-julefest/191/
CREATED:20170105T140242Z
LAST-MODIFIED:20170105T140242Z
SUMMARY:Eldres hyggestund - julefest
DESCRIPTION:\n\nhttps://www.auremisjonshus.no/kalender/2017/01/12/eldres-hyggestund-julefest/191/
END:VEVENT

END:VCALENDAR