BEGIN:VCALENDAR
VERSION:2.0
PRODID:-//mWEB//NONSGML mWEB//NB
URL:https://www.auremisjonshus.no/kalender/ics
X-WR-CALNAME:Aure Misjonshus
REFRESH-INTERVAL;VALUE=DURATION:PT6H
X-PUBLISHED-TTL:PT6H    
CALSCALE:GREGORIAN
BEGIN:VEVENT
UID:auremisjonshus.no-181
DTSTAMP:20260426T030136Z
DTSTART:20170106T230000Z
DTEND:20170107T225900Z
URL:https://www.auremisjonshus.no/kalender/2017/01/07/katolsk-messe/181/
CREATED:20161205T102339Z
LAST-MODIFIED:20161229T184606Z
SUMMARY:Katolsk messe
DESCRIPTION:\n\nhttps://www.auremisjonshus.no/kalender/2017/01/07/katolsk-messe/181/
X-MICROSOFT-CDO-ALLDAYEVENT:TRUE
END:VEVENT

END:VCALENDAR